Workbook

Sheet スケジュール
A1: まだまだたくさんあります！無料テンプレートのダウンロード
B2: Web制作スケジュール
B3: 案件名 | D3: ○○株式会社 コーポレートサイト制作 | K3: 公開予定日 | P3: =MAX($G$11:$G$45) -> 46360 | Y3: 遅延タスク | AD3: =COUNTIF($J$11:$J$45,"遅延")&" 件" -> 2 件
B4: クライアント | D4: ○○株式会社 広報部 | K4: 全体進捗 | P4: =IFERROR(SUMPRODUCT(($C$11:$C$45="タスク")*$H$11:$H$45*$I$11:$I$45)/SUMPRODUCT(($C$11:$C$45="タスク")*$H$11:$H$45),0) -> 0.32181818 | Y4: 作成日 | AD4: 46318
B6: 水色の欄に入力（区分・担当は選択式） | L6: ディレクター | R6: デザイナー | X6: エンジニア | AD6: ライター | AJ6: クライアント | AP6: フェーズ | AU6: ◆ 承認・公開 | BB6: 今日 | BH6: 土日 | BN6: 祝日
B8: No | C8: 区分 | D8: タスク | E8: 担当 | F8: 開始日 | G8: 終了日 | H8: 営業日 | I8: 進捗 | J8: 状態 | K8: =MONTH(K9)&"月" -> 10月 | L8: =IF(DAY(L9)=1,MONTH(L9)&"月","") | M8: =IF(DAY(M9)=1,MONTH(M9)&"月","") | N8: =IF(DAY(N9)=1,MONTH(N9)&"月","") | O8: =IF(DAY(O9)=1,MONTH(O9)&"月","") | P8: =IF(DAY(P9)=1,MONTH(P9)&"月","") | Q8: =IF(DAY(Q9)=1,MONTH(Q9)&"月","") | R8: =IF(DAY(R9)=1,MONTH(R9)&"月","") | S8: =IF(DAY(S9)=1,MONTH(S9)&"月","") | ... CP8: =IF(DAY(CP9)=1,MONTH(CP9)&"月","")
K9: =MIN($F$11:$F$45)-WEEKDAY(MIN($F$11:$F$45),3) -> 46300 | L9: =K9+1 -> 46301 | M9: =L9+1 -> 46302 | N9: =M9+1 -> 46303 | O9: =N9+1 -> 46304 | P9: =O9+1 -> 46305 | Q9: =P9+1 -> 46306 | R9: =Q9+1 -> 46307 | S9: =R9+1 -> 46308 | ... CP9: =CO9+1 -> 46383
K10: =IF(COUNTIF(祝日!$B$5:$B$60,K9)>0,"祝",CHOOSE(WEEKDAY(K9),"日","月","火","水","木","金","土")) -> 月 | L10: =IF(COUNTIF(祝日!$B$5:$B$60,L9)>0,"祝",CHOOSE(WEEKDAY(L9),"日","月","火","水","木","金","土")) -> 火 | M10: =IF(COUNTIF(祝日!$B$5:$B$60,M9)>0,"祝",CHOOSE(WEEKDAY(M9),"日","月","火","水","木","金","土")) -> 水 | N10: =IF(COUNTIF(祝日!$B$5:$B$60,N9)>0,"祝",CHOOSE(WEEKDAY(N9),"日","月","火","水","木","金","土")) -> 木 | O10: =IF(COUNTIF(祝日!$B$5:$B$60,O9)>0,"祝",CHOOSE(WEEKDAY(O9),"日","月","火","水","木","金","土")) -> 金 | P10: =IF(COUNTIF(祝日!$B$5:$B$60,P9)>0,"祝",CHOOSE(WEEKDAY(P9),"日","月","火","水","木","金","土")) -> 土 | Q10: =IF(COUNTIF(祝日!$B$5:$B$60,Q9)>0,"祝",CHOOSE(WEEKDAY(Q9),"日","月","火","水","木","金","土")) -> 日 | R10: =IF(COUNTIF(祝日!$B$5:$B$60,R9)>0,"祝",CHOOSE(WEEKDAY(R9),"日","月","火","水","木","金","土")) -> 祝 | ... CP10: =IF(COUNTIF(祝日!$B$5:$B$60,CP9)>0,"祝",CHOOSE(WEEKDAY(CP9),"日","月","火","水","木","金","土")) -> 日
C11: フェーズ | D11: 企画・要件定義 | F11: =MIN(F12:F15) -> 46300 | G11: =MAX(G12:G15) -> 46310 | H11: =NETWORKDAYS(F11,G11,祝日!$B$5:$B$60) -> 8 | I11: =IFERROR(SUMPRODUCT((C12:C15="タスク")*H12:H15*I12:I15)/SUMPRODUCT((C12:C15="タスク")*H12:H15),0) -> 1 | J11: =IF(OR($F11="",$G11=""),"",IF($I11>=1,"完了",IF(TODAY()>$G11,"遅延",IF(TODAY()>=$F11,"進行中","未着手")))) -> 完了 | K11: =IF(AND($C11="マイルストーン",K$9=$F11),"◆","") | L11: =IF(AND($C11="マイルストーン",L$9=$F11),"◆","") | M11: =IF(AND($C11="マイルストーン",M$9=$F11),"◆","") | N11: =IF(AND($C11="マイルストーン",N$9=$F11),"◆","") | O11: =IF(AND($C11="マイルストーン",O$9=$F11),"◆","") | P11: =IF(AND($C11="マイルストーン",P$9=$F11),"◆","") | Q11: =IF(AND($C11="マイルストーン",Q$9=$F11),"◆","") | R11: =IF(AND($C11="マイルストーン",R$9=$F11),"◆","") | ... CP11: =IF(AND($C11="マイルストーン",CP$9=$F11),"◆","")
B12: 1 | C12: マイルストーン | D12: ◆ キックオフMTG | E12: ディレクター | F12: 46300 | G12: 46300 | H12: =IF(OR(F12="",G12=""),0,NETWORKDAYS(F12,G12,祝日!$B$5:$B$60)) -> 1 | I12: 1 | J12: =IF(OR($F12="",$G12=""),"",IF($I12>=1,"完了",IF(TODAY()>$G12,"遅延",IF(TODAY()>=$F12,"進行中","未着手")))) -> 完了 | K12: =IF(AND($C12="マイルストーン",K$9=$F12),"◆","") -> ◆ | L12: =IF(AND($C12="マイルストーン",L$9=$F12),"◆","") | M12: =IF(AND($C12="マイルストーン",M$9=$F12),"◆","") | N12: =IF(AND($C12="マイルストーン",N$9=$F12),"◆","") | O12: =IF(AND($C12="マイルストーン",O$9=$F12),"◆","") | P12: =IF(AND($C12="マイルストーン",P$9=$F12),"◆","") | Q12: =IF(AND($C12="マイルストーン",Q$9=$F12),"◆","") | R12: =IF(AND($C12="マイルストーン",R$9=$F12),"◆","") | ... CP12: =IF(AND($C12="マイルストーン",CP$9=$F12),"◆","")
B13: 2 | C13: タスク | D13: ヒアリング・要件整理 | E13: ディレクター | F13: 46300 | G13: 46304 | H13: =IF(OR(F13="",G13=""),0,NETWORKDAYS(F13,G13,祝日!$B$5:$B$60)) -> 5 | I13: 1 | J13: =IF(OR($F13="",$G13=""),"",IF($I13>=1,"完了",IF(TODAY()>$G13,"遅延",IF(TODAY()>=$F13,"進行中","未着手")))) -> 完了 | K13: =IF(AND($C13="マイルストーン",K$9=$F13),"◆","") | L13: =IF(AND($C13="マイルストーン",L$9=$F13),"◆","") | M13: =IF(AND($C13="マイルストーン",M$9=$F13),"◆","") | N13: =IF(AND($C13="マイルストーン",N$9=$F13),"◆","") | O13: =IF(AND($C13="マイルストーン",O$9=$F13),"◆","") | P13: =IF(AND($C13="マイルストーン",P$9=$F13),"◆","") | Q13: =IF(AND($C13="マイルストーン",Q$9=$F13),"◆","") | R13: =IF(AND($C13="マイルストーン",R$9=$F13),"◆","") | ... CP13: =IF(AND($C13="マイルストーン",CP$9=$F13),"◆","")
B14: 3 | C14: タスク | D14: サイトマップ作成 | E14: ディレクター | F14: 46307 | G14: 46309 | H14: =IF(OR(F14="",G14=""),0,NETWORKDAYS(F14,G14,祝日!$B$5:$B$60)) -> 2 | I14: 1 | J14: =IF(OR($F14="",$G14=""),"",IF($I14>=1,"完了",IF(TODAY()>$G14,"遅延",IF(TODAY()>=$F14,"進行中","未着手")))) -> 完了 | K14: =IF(AND($C14="マイルストーン",K$9=$F14),"◆","") | L14: =IF(AND($C14="マイルストーン",L$9=$F14),"◆","") | M14: =IF(AND($C14="マイルストーン",M$9=$F14),"◆","") | N14: =IF(AND($C14="マイルストーン",N$9=$F14),"◆","") | O14: =IF(AND($C14="マイルストーン",O$9=$F14),"◆","") | P14: =IF(AND($C14="マイルストーン",P$9=$F14),"◆","") | Q14: =IF(AND($C14="マイルストーン",Q$9=$F14),"◆","") | R14: =IF(AND($C14="マイルストーン",R$9=$F14),"◆","") | ... CP14: =IF(AND($C14="マイルストーン",CP$9=$F14),"◆","")
B15: 4 | C15: マイルストーン | D15: ◆ 要件定義の承認 | E15: クライアント | F15: 46310 | G15: 46310 | H15: =IF(OR(F15="",G15=""),0,NETWORKDAYS(F15,G15,祝日!$B$5:$B$60)) -> 1 | I15: 1 | J15: =IF(OR($F15="",$G15=""),"",IF($I15>=1,"完了",IF(TODAY()>$G15,"遅延",IF(TODAY()>=$F15,"進行中","未着手")))) -> 完了 | K15: =IF(AND($C15="マイルストーン",K$9=$F15),"◆","") | L15: =IF(AND($C15="マイルストーン",L$9=$F15),"◆","") | M15: =IF(AND($C15="マイルストーン",M$9=$F15),"◆","") | N15: =IF(AND($C15="マイルストーン",N$9=$F15),"◆","") | O15: =IF(AND($C15="マイルストーン",O$9=$F15),"◆","") | P15: =IF(AND($C15="マイルストーン",P$9=$F15),"◆","") | Q15: =IF(AND($C15="マイルストーン",Q$9=$F15),"◆","") | R15: =IF(AND($C15="マイルストーン",R$9=$F15),"◆","") | ... CP15: =IF(AND($C15="マイルストーン",CP$9=$F15),"◆","")
C16: フェーズ | D16: 設計 | F16: =MIN(F17:F19) -> 46309 | G16: =MAX(G17:G19) -> 46317 | H16: =NETWORKDAYS(F16,G16,祝日!$B$5:$B$60) -> 7 | I16: =IFERROR(SUMPRODUCT((C17:C19="タスク")*H17:H19*I17:I19)/SUMPRODUCT((C17:C19="タスク")*H17:H19),0) -> 0.83636364 | J16: =IF(OR($F16="",$G16=""),"",IF($I16>=1,"完了",IF(TODAY()>$G16,"遅延",IF(TODAY()>=$F16,"進行中","未着手")))) -> 遅延 | K16: =IF(AND($C16="マイルストーン",K$9=$F16),"◆","") | L16: =IF(AND($C16="マイルストーン",L$9=$F16),"◆","") | M16: =IF(AND($C16="マイルストーン",M$9=$F16),"◆","") | N16: =IF(AND($C16="マイルストーン",N$9=$F16),"◆","") | O16: =IF(AND($C16="マイルストーン",O$9=$F16),"◆","") | P16: =IF(AND($C16="マイルストーン",P$9=$F16),"◆","") | Q16: =IF(AND($C16="マイルストーン",Q$9=$F16),"◆","") | R16: =IF(AND($C16="マイルストーン",R$9=$F16),"◆","") | ... CP16: =IF(AND($C16="マイルストーン",CP$9=$F16),"◆","")
B17: 5 | C17: タスク | D17: ワイヤーフレーム作成 | E17: ディレクター | F17: 46310 | G17: 46316 | H17: =IF(OR(F17="",G17=""),0,NETWORKDAYS(F17,G17,祝日!$B$5:$B$60)) -> 5 | I17: 1 | J17: =IF(OR($F17="",$G17=""),"",IF($I17>=1,"完了",IF(TODAY()>$G17,"遅延",IF(TODAY()>=$F17,"進行中","未着手")))) -> 完了 | K17: =IF(AND($C17="マイルストーン",K$9=$F17),"◆","") | L17: =IF(AND($C17="マイルストーン",L$9=$F17),"◆","") | M17: =IF(AND($C17="マイルストーン",M$9=$F17),"◆","") | N17: =IF(AND($C17="マイルストーン",N$9=$F17),"◆","") | O17: =IF(AND($C17="マイルストーン",O$9=$F17),"◆","") | P17: =IF(AND($C17="マイルストーン",P$9=$F17),"◆","") | Q17: =IF(AND($C17="マイルストーン",Q$9=$F17),"◆","") | R17: =IF(AND($C17="マイルストーン",R$9=$F17),"◆","") | ... CP17: =IF(AND($C17="マイルストーン",CP$9=$F17),"◆","")
B18: 6 | C18: タスク | D18: 原稿作成 | E18: ライター | F18: 46309 | G18: 46316 | H18: =IF(OR(F18="",G18=""),0,NETWORKDAYS(F18,G18,祝日!$B$5:$B$60)) -> 6 | I18: 0.7 | J18: =IF(OR($F18="",$G18=""),"",IF($I18>=1,"完了",IF(TODAY()>$G18,"遅延",IF(TODAY()>=$F18,"進行中","未着手")))) -> 遅延 | K18: =IF(AND($C18="マイルストーン",K$9=$F18),"◆","") | L18: =IF(AND($C18="マイルストーン",L$9=$F18),"◆","") | M18: =IF(AND($C18="マイルストーン",M$9=$F18),"◆","") | N18: =IF(AND($C18="マイルストーン",N$9=$F18),"◆","") | O18: =IF(AND($C18="マイルストーン",O$9=$F18),"◆","") | P18: =IF(AND($C18="マイルストーン",P$9=$F18),"◆","") | Q18: =IF(AND($C18="マイルストーン",Q$9=$F18),"◆","") | R18: =IF(AND($C18="マイルストーン",R$9=$F18),"◆","") | ... CP18: =IF(AND($C18="マイルストーン",CP$9=$F18),"◆","")
B19: 7 | C19: マイルストーン | D19: ◆ ワイヤーの承認 | E19: クライアント | F19: 46317 | G19: 46317 | H19: =IF(OR(F19="",G19=""),0,NETWORKDAYS(F19,G19,祝日!$B$5:$B$60)) -> 1 | I19: 1 | J19: =IF(OR($F19="",$G19=""),"",IF($I19>=1,"完了",IF(TODAY()>$G19,"遅延",IF(TODAY()>=$F19,"進行中","未着手")))) -> 完了 | K19: =IF(AND($C19="マイルストーン",K$9=$F19),"◆","") | L19: =IF(AND($C19="マイルストーン",L$9=$F19),"◆","") | M19: =IF(AND($C19="マイルストーン",M$9=$F19),"◆","") | N19: =IF(AND($C19="マイルストーン",N$9=$F19),"◆","") | O19: =IF(AND($C19="マイルストーン",O$9=$F19),"◆","") | P19: =IF(AND($C19="マイルストーン",P$9=$F19),"◆","") | Q19: =IF(AND($C19="マイルストーン",Q$9=$F19),"◆","") | R19: =IF(AND($C19="マイルストーン",R$9=$F19),"◆","") | ... CP19: =IF(AND($C19="マイルストーン",CP$9=$F19),"◆","")
C20: フェーズ | D20: デザイン | F20: =MIN(F21:F24) -> 46317 | G20: =MAX(G21:G24) -> 46338 | H20: =NETWORKDAYS(F20,G20,祝日!$B$5:$B$60) -> 15 | I20: =IFERROR(SUMPRODUCT((C21:C24="タスク")*H21:H24*I21:I24)/SUMPRODUCT((C21:C24="タスク")*H21:H24),0) -> 0.10714286 | J20: =IF(OR($F20="",$G20=""),"",IF($I20>=1,"完了",IF(TODAY()>$G20,"遅延",IF(TODAY()>=$F20,"進行中","未着手")))) -> 進行中 | K20: =IF(AND($C20="マイルストーン",K$9=$F20),"◆","") | L20: =IF(AND($C20="マイルストーン",L$9=$F20),"◆","") | M20: =IF(AND($C20="マイルストーン",M$9=$F20),"◆","") | N20: =IF(AND($C20="マイルストーン",N$9=$F20),"◆","") | O20: =IF(AND($C20="マイルストーン",O$9=$F20),"◆","") | P20: =IF(AND($C20="マイルストーン",P$9=$F20),"◆","") | Q20: =IF(AND($C20="マイルストーン",Q$9=$F20),"◆","") | R20: =IF(AND($C20="マイルストーン",R$9=$F20),"◆","") | ... CP20: =IF(AND($C20="マイルストーン",CP$9=$F20),"◆","")
B21: 8 | C21: タスク | D21: トップページデザイン | E21: デザイナー | F21: 46317 | G21: 46323 | H21: =IF(OR(F21="",G21=""),0,NETWORKDAYS(F21,G21,祝日!$B$5:$B$60)) -> 5 | I21: 0.3 | J21: =IF(OR($F21="",$G21=""),"",IF($I21>=1,"完了",IF(TODAY()>$G21,"遅延",IF(TODAY()>=$F21,"進行中","未着手")))) -> 進行中 | K21: =IF(AND($C21="マイルストーン",K$9=$F21),"◆","") | L21: =IF(AND($C21="マイルストーン",L$9=$F21),"◆","") | M21: =IF(AND($C21="マイルストーン",M$9=$F21),"◆","") | N21: =IF(AND($C21="マイルストーン",N$9=$F21),"◆","") | O21: =IF(AND($C21="マイルストーン",O$9=$F21),"◆","") | P21: =IF(AND($C21="マイルストーン",P$9=$F21),"◆","") | Q21: =IF(AND($C21="マイルストーン",Q$9=$F21),"◆","") | R21: =IF(AND($C21="マイルストーン",R$9=$F21),"◆","") | ... CP21: =IF(AND($C21="マイルストーン",CP$9=$F21),"◆","")
B22: 9 | C22: タスク | D22: 下層ページデザイン | E22: デザイナー | F22: 46324 | G22: 46332 | H22: =IF(OR(F22="",G22=""),0,NETWORKDAYS(F22,G22,祝日!$B$5:$B$60)) -> 6 | I22: 0 | J22: =IF(OR($F22="",$G22=""),"",IF($I22>=1,"完了",IF(TODAY()>$G22,"遅延",IF(TODAY()>=$F22,"進行中","未着手")))) -> 未着手 | K22: =IF(AND($C22="マイルストーン",K$9=$F22),"◆","") | L22: =IF(AND($C22="マイルストーン",L$9=$F22),"◆","") | M22: =IF(AND($C22="マイルストーン",M$9=$F22),"◆","") | N22: =IF(AND($C22="マイルストーン",N$9=$F22),"◆","") | O22: =IF(AND($C22="マイルストーン",O$9=$F22),"◆","") | P22: =IF(AND($C22="マイルストーン",P$9=$F22),"◆","") | Q22: =IF(AND($C22="マイルストーン",Q$9=$F22),"◆","") | R22: =IF(AND($C22="マイルストーン",R$9=$F22),"◆","") | ... CP22: =IF(AND($C22="マイルストーン",CP$9=$F22),"◆","")
B23: 10 | C23: タスク | D23: デザイン確認・修正 | E23: クライアント | F23: 46335 | G23: 46337 | H23: =IF(OR(F23="",G23=""),0,NETWORKDAYS(F23,G23,祝日!$B$5:$B$60)) -> 3 | I23: 0 | J23: =IF(OR($F23="",$G23=""),"",IF($I23>=1,"完了",IF(TODAY()>$G23,"遅延",IF(TODAY()>=$F23,"進行中","未着手")))) -> 未着手 | K23: =IF(AND($C23="マイルストーン",K$9=$F23),"◆","") | L23: =IF(AND($C23="マイルストーン",L$9=$F23),"◆","") | M23: =IF(AND($C23="マイルストーン",M$9=$F23),"◆","") | N23: =IF(AND($C23="マイルストーン",N$9=$F23),"◆","") | O23: =IF(AND($C23="マイルストーン",O$9=$F23),"◆","") | P23: =IF(AND($C23="マイルストーン",P$9=$F23),"◆","") | Q23: =IF(AND($C23="マイルストーン",Q$9=$F23),"◆","") | R23: =IF(AND($C23="マイルストーン",R$9=$F23),"◆","") | ... CP23: =IF(AND($C23="マイルストーン",CP$9=$F23),"◆","")
B24: 11 | C24: マイルストーン | D24: ◆ デザインの承認 | E24: クライアント | F24: 46338 | G24: 46338 | H24: =IF(OR(F24="",G24=""),0,NETWORKDAYS(F24,G24,祝日!$B$5:$B$60)) -> 1 | I24: 0 | J24: =IF(OR($F24="",$G24=""),"",IF($I24>=1,"完了",IF(TODAY()>$G24,"遅延",IF(TODAY()>=$F24,"進行中","未着手")))) -> 未着手 | K24: =IF(AND($C24="マイルストーン",K$9=$F24),"◆","") | L24: =IF(AND($C24="マイルストーン",L$9=$F24),"◆","") | M24: =IF(AND($C24="マイルストーン",M$9=$F24),"◆","") | N24: =IF(AND($C24="マイルストーン",N$9=$F24),"◆","") | O24: =IF(AND($C24="マイルストーン",O$9=$F24),"◆","") | P24: =IF(AND($C24="マイルストーン",P$9=$F24),"◆","") | Q24: =IF(AND($C24="マイルストーン",Q$9=$F24),"◆","") | R24: =IF(AND($C24="マイルストーン",R$9=$F24),"◆","") | ... CP24: =IF(AND($C24="マイルストーン",CP$9=$F24),"◆","")
C25: フェーズ | D25: 実装 | F25: =MIN(F26:F28) -> 46338 | G25: =MAX(G26:G28) -> 46352 | H25: =NETWORKDAYS(F25,G25,祝日!$B$5:$B$60) -> 10 | I25: =IFERROR(SUMPRODUCT((C26:C28="タスク")*H26:H28*I26:I28)/SUMPRODUCT((C26:C28="タスク")*H26:H28),0) -> 0 | J25: =IF(OR($F25="",$G25=""),"",IF($I25>=1,"完了",IF(TODAY()>$G25,"遅延",IF(TODAY()>=$F25,"進行中","未着手")))) -> 未着手 | K25: =IF(AND($C25="マイルストーン",K$9=$F25),"◆","") | L25: =IF(AND($C25="マイルストーン",L$9=$F25),"◆","") | M25: =IF(AND($C25="マイルストーン",M$9=$F25),"◆","") | N25: =IF(AND($C25="マイルストーン",N$9=$F25),"◆","") | O25: =IF(AND($C25="マイルストーン",O$9=$F25),"◆","") | P25: =IF(AND($C25="マイルストーン",P$9=$F25),"◆","") | Q25: =IF(AND($C25="マイルストーン",Q$9=$F25),"◆","") | R25: =IF(AND($C25="マイルストーン",R$9=$F25),"◆","") | ... CP25: =IF(AND($C25="マイルストーン",CP$9=$F25),"◆","")
B26: 12 | C26: タスク | D26: コーディング | E26: エンジニア | F26: 46338 | G26: 46346 | H26: =IF(OR(F26="",G26=""),0,NETWORKDAYS(F26,G26,祝日!$B$5:$B$60)) -> 7 | I26: 0 | J26: =IF(OR($F26="",$G26=""),"",IF($I26>=1,"完了",IF(TODAY()>$G26,"遅延",IF(TODAY()>=$F26,"進行中","未着手")))) -> 未着手 | K26: =IF(AND($C26="マイルストーン",K$9=$F26),"◆","") | L26: =IF(AND($C26="マイルストーン",L$9=$F26),"◆","") | M26: =IF(AND($C26="マイルストーン",M$9=$F26),"◆","") | N26: =IF(AND($C26="マイルストーン",N$9=$F26),"◆","") | O26: =IF(AND($C26="マイルストーン",O$9=$F26),"◆","") | P26: =IF(AND($C26="マイルストーン",P$9=$F26),"◆","") | Q26: =IF(AND($C26="マイルストーン",Q$9=$F26),"◆","") | R26: =IF(AND($C26="マイルストーン",R$9=$F26),"◆","") | ... CP26: =IF(AND($C26="マイルストーン",CP$9=$F26),"◆","")
B27: 13 | C27: タスク | D27: CMS構築 | E27: エンジニア | F27: 46342 | G27: 46350 | H27: =IF(OR(F27="",G27=""),0,NETWORKDAYS(F27,G27,祝日!$B$5:$B$60)) -> 6 | I27: 0 | J27: =IF(OR($F27="",$G27=""),"",IF($I27>=1,"完了",IF(TODAY()>$G27,"遅延",IF(TODAY()>=$F27,"進行中","未着手")))) -> 未着手 | K27: =IF(AND($C27="マイルストーン",K$9=$F27),"◆","") | L27: =IF(AND($C27="マイルストーン",L$9=$F27),"◆","") | M27: =IF(AND($C27="マイルストーン",M$9=$F27),"◆","") | N27: =IF(AND($C27="マイルストーン",N$9=$F27),"◆","") | O27: =IF(AND($C27="マイルストーン",O$9=$F27),"◆","") | P27: =IF(AND($C27="マイルストーン",P$9=$F27),"◆","") | Q27: =IF(AND($C27="マイルストーン",Q$9=$F27),"◆","") | R27: =IF(AND($C27="マイルストーン",R$9=$F27),"◆","") | ... CP27: =IF(AND($C27="マイルストーン",CP$9=$F27),"◆","")
B28: 14 | C28: タスク | D28: 原稿・画像の流し込み | E28: ライター | F28: 46350 | G28: 46352 | H28: =IF(OR(F28="",G28=""),0,NETWORKDAYS(F28,G28,祝日!$B$5:$B$60)) -> 3 | I28: 0 | J28: =IF(OR($F28="",$G28=""),"",IF($I28>=1,"完了",IF(TODAY()>$G28,"遅延",IF(TODAY()>=$F28,"進行中","未着手")))) -> 未着手 | K28: =IF(AND($C28="マイルストーン",K$9=$F28),"◆","") | L28: =IF(AND($C28="マイルストーン",L$9=$F28),"◆","") | M28: =IF(AND($C28="マイルストーン",M$9=$F28),"◆","") | N28: =IF(AND($C28="マイルストーン",N$9=$F28),"◆","") | O28: =IF(AND($C28="マイルストーン",O$9=$F28),"◆","") | P28: =IF(AND($C28="マイルストーン",P$9=$F28),"◆","") | Q28: =IF(AND($C28="マイルストーン",Q$9=$F28),"◆","") | R28: =IF(AND($C28="マイルストーン",R$9=$F28),"◆","") | ... CP28: =IF(AND($C28="マイルストーン",CP$9=$F28),"◆","")
C29: フェーズ | D29: テスト・公開 | F29: =MIN(F30:F33) -> 46351 | G29: =MAX(G30:G33) -> 46360 | H29: =NETWORKDAYS(F29,G29,祝日!$B$5:$B$60) -> 8 | I29: =IFERROR(SUMPRODUCT((C30:C33="タスク")*H30:H33*I30:I33)/SUMPRODUCT((C30:C33="タスク")*H30:H33),0) -> 0 | J29: =IF(OR($F29="",$G29=""),"",IF($I29>=1,"完了",IF(TODAY()>$G29,"遅延",IF(TODAY()>=$F29,"進行中","未着手")))) -> 未着手 | K29: =IF(AND($C29="マイルストーン",K$9=$F29),"◆","") | L29: =IF(AND($C29="マイルストーン",L$9=$F29),"◆","") | M29: =IF(AND($C29="マイルストーン",M$9=$F29),"◆","") | N29: =IF(AND($C29="マイルストーン",N$9=$F29),"◆","") | O29: =IF(AND($C29="マイルストーン",O$9=$F29),"◆","") | P29: =IF(AND($C29="マイルストーン",P$9=$F29),"◆","") | Q29: =IF(AND($C29="マイルストーン",Q$9=$F29),"◆","") | R29: =IF(AND($C29="マイルストーン",R$9=$F29),"◆","") | ... CP29: =IF(AND($C29="マイルストーン",CP$9=$F29),"◆","")
B30: 15 | C30: タスク | D30: 動作確認・ブラウザテスト | E30: エンジニア | F30: 46351 | G30: 46353 | H30: =IF(OR(F30="",G30=""),0,NETWORKDAYS(F30,G30,祝日!$B$5:$B$60)) -> 3 | I30: 0 | J30: =IF(OR($F30="",$G30=""),"",IF($I30>=1,"完了",IF(TODAY()>$G30,"遅延",IF(TODAY()>=$F30,"進行中","未着手")))) -> 未着手 | K30: =IF(AND($C30="マイルストーン",K$9=$F30),"◆","") | L30: =IF(AND($C30="マイルストーン",L$9=$F30),"◆","") | M30: =IF(AND($C30="マイルストーン",M$9=$F30),"◆","") | N30: =IF(AND($C30="マイルストーン",N$9=$F30),"◆","") | O30: =IF(AND($C30="マイルストーン",O$9=$F30),"◆","") | P30: =IF(AND($C30="マイルストーン",P$9=$F30),"◆","") | Q30: =IF(AND($C30="マイルストーン",Q$9=$F30),"◆","") | R30: =IF(AND($C30="マイルストーン",R$9=$F30),"◆","") | ... CP30: =IF(AND($C30="マイルストーン",CP$9=$F30),"◆","")
B31: 16 | C31: タスク | D31: クライアント確認 | E31: クライアント | F31: 46356 | G31: 46357 | H31: =IF(OR(F31="",G31=""),0,NETWORKDAYS(F31,G31,祝日!$B$5:$B$60)) -> 2 | I31: 0 | J31: =IF(OR($F31="",$G31=""),"",IF($I31>=1,"完了",IF(TODAY()>$G31,"遅延",IF(TODAY()>=$F31,"進行中","未着手")))) -> 未着手 | K31: =IF(AND($C31="マイルストーン",K$9=$F31),"◆","") | L31: =IF(AND($C31="マイルストーン",L$9=$F31),"◆","") | M31: =IF(AND($C31="マイルストーン",M$9=$F31),"◆","") | N31: =IF(AND($C31="マイルストーン",N$9=$F31),"◆","") | O31: =IF(AND($C31="マイルストーン",O$9=$F31),"◆","") | P31: =IF(AND($C31="マイルストーン",P$9=$F31),"◆","") | Q31: =IF(AND($C31="マイルストーン",Q$9=$F31),"◆","") | R31: =IF(AND($C31="マイルストーン",R$9=$F31),"◆","") | ... CP31: =IF(AND($C31="マイルストーン",CP$9=$F31),"◆","")
B32: 17 | C32: タスク | D32: 修正対応 | E32: エンジニア | F32: 46358 | G32: 46359 | H32: =IF(OR(F32="",G32=""),0,NETWORKDAYS(F32,G32,祝日!$B$5:$B$60)) -> 2 | I32: 0 | J32: =IF(OR($F32="",$G32=""),"",IF($I32>=1,"完了",IF(TODAY()>$G32,"遅延",IF(TODAY()>=$F32,"進行中","未着手")))) -> 未着手 | K32: =IF(AND($C32="マイルストーン",K$9=$F32),"◆","") | L32: =IF(AND($C32="マイルストーン",L$9=$F32),"◆","") | M32: =IF(AND($C32="マイルストーン",M$9=$F32),"◆","") | N32: =IF(AND($C32="マイルストーン",N$9=$F32),"◆","") | O32: =IF(AND($C32="マイルストーン",O$9=$F32),"◆","") | P32: =IF(AND($C32="マイルストーン",P$9=$F32),"◆","") | Q32: =IF(AND($C32="マイルストーン",Q$9=$F32),"◆","") | R32: =IF(AND($C32="マイルストーン",R$9=$F32),"◆","") | ... CP32: =IF(AND($C32="マイルストーン",CP$9=$F32),"◆","")
B33: 18 | C33: マイルストーン | D33: ◆ サイト公開 | E33: ディレクター | F33: 46360 | G33: 46360 | H33: =IF(OR(F33="",G33=""),0,NETWORKDAYS(F33,G33,祝日!$B$5:$B$60)) -> 1 | I33: 0 | J33: =IF(OR($F33="",$G33=""),"",IF($I33>=1,"完了",IF(TODAY()>$G33,"遅延",IF(TODAY()>=$F33,"進行中","未着手")))) -> 未着手 | K33: =IF(AND($C33="マイルストーン",K$9=$F33),"◆","") | L33: =IF(AND($C33="マイルストーン",L$9=$F33),"◆","") | M33: =IF(AND($C33="マイルストーン",M$9=$F33),"◆","") | N33: =IF(AND($C33="マイルストーン",N$9=$F33),"◆","") | O33: =IF(AND($C33="マイルストーン",O$9=$F33),"◆","") | P33: =IF(AND($C33="マイルストーン",P$9=$F33),"◆","") | Q33: =IF(AND($C33="マイルストーン",Q$9=$F33),"◆","") | R33: =IF(AND($C33="マイルストーン",R$9=$F33),"◆","") | ... CP33: =IF(AND($C33="マイルストーン",CP$9=$F33),"◆","")
H34: =IF(OR(F34="",G34=""),0,NETWORKDAYS(F34,G34,祝日!$B$5:$B$60)) -> 0 | J34: =IF(OR($F34="",$G34=""),"",IF($I34>=1,"完了",IF(TODAY()>$G34,"遅延",IF(TODAY()>=$F34,"進行中","未着手")))) | K34: =IF(AND($C34="マイルストーン",K$9=$F34),"◆","") | L34: =IF(AND($C34="マイルストーン",L$9=$F34),"◆","") | M34: =IF(AND($C34="マイルストーン",M$9=$F34),"◆","") | N34: =IF(AND($C34="マイルストーン",N$9=$F34),"◆","") | O34: =IF(AND($C34="マイルストーン",O$9=$F34),"◆","") | P34: =IF(AND($C34="マイルストーン",P$9=$F34),"◆","") | Q34: =IF(AND($C34="マイルストーン",Q$9=$F34),"◆","") | R34: =IF(AND($C34="マイルストーン",R$9=$F34),"◆","") | ... CP34: =IF(AND($C34="マイルストーン",CP$9=$F34),"◆","")
H35: =IF(OR(F35="",G35=""),0,NETWORKDAYS(F35,G35,祝日!$B$5:$B$60)) -> 0 | J35: =IF(OR($F35="",$G35=""),"",IF($I35>=1,"完了",IF(TODAY()>$G35,"遅延",IF(TODAY()>=$F35,"進行中","未着手")))) | K35: =IF(AND($C35="マイルストーン",K$9=$F35),"◆","") | L35: =IF(AND($C35="マイルストーン",L$9=$F35),"◆","") | M35: =IF(AND($C35="マイルストーン",M$9=$F35),"◆","") | N35: =IF(AND($C35="マイルストーン",N$9=$F35),"◆","") | O35: =IF(AND($C35="マイルストーン",O$9=$F35),"◆","") | P35: =IF(AND($C35="マイルストーン",P$9=$F35),"◆","") | Q35: =IF(AND($C35="マイルストーン",Q$9=$F35),"◆","") | R35: =IF(AND($C35="マイルストーン",R$9=$F35),"◆","") | ... CP35: =IF(AND($C35="マイルストーン",CP$9=$F35),"◆","")
H36: =IF(OR(F36="",G36=""),0,NETWORKDAYS(F36,G36,祝日!$B$5:$B$60)) -> 0 | J36: =IF(OR($F36="",$G36=""),"",IF($I36>=1,"完了",IF(TODAY()>$G36,"遅延",IF(TODAY()>=$F36,"進行中","未着手")))) | K36: =IF(AND($C36="マイルストーン",K$9=$F36),"◆","") | L36: =IF(AND($C36="マイルストーン",L$9=$F36),"◆","") | M36: =IF(AND($C36="マイルストーン",M$9=$F36),"◆","") | N36: =IF(AND($C36="マイルストーン",N$9=$F36),"◆","") | O36: =IF(AND($C36="マイルストーン",O$9=$F36),"◆","") | P36: =IF(AND($C36="マイルストーン",P$9=$F36),"◆","") | Q36: =IF(AND($C36="マイルストーン",Q$9=$F36),"◆","") | R36: =IF(AND($C36="マイルストーン",R$9=$F36),"◆","") | ... CP36: =IF(AND($C36="マイルストーン",CP$9=$F36),"◆","")
H37: =IF(OR(F37="",G37=""),0,NETWORKDAYS(F37,G37,祝日!$B$5:$B$60)) -> 0 | J37: =IF(OR($F37="",$G37=""),"",IF($I37>=1,"完了",IF(TODAY()>$G37,"遅延",IF(TODAY()>=$F37,"進行中","未着手")))) | K37: =IF(AND($C37="マイルストーン",K$9=$F37),"◆","") | L37: =IF(AND($C37="マイルストーン",L$9=$F37),"◆","") | M37: =IF(AND($C37="マイルストーン",M$9=$F37),"◆","") | N37: =IF(AND($C37="マイルストーン",N$9=$F37),"◆","") | O37: =IF(AND($C37="マイルストーン",O$9=$F37),"◆","") | P37: =IF(AND($C37="マイルストーン",P$9=$F37),"◆","") | Q37: =IF(AND($C37="マイルストーン",Q$9=$F37),"◆","") | R37: =IF(AND($C37="マイルストーン",R$9=$F37),"◆","") | ... CP37: =IF(AND($C37="マイルストーン",CP$9=$F37),"◆","")
H38: =IF(OR(F38="",G38=""),0,NETWORKDAYS(F38,G38,祝日!$B$5:$B$60)) -> 0 | J38: =IF(OR($F38="",$G38=""),"",IF($I38>=1,"完了",IF(TODAY()>$G38,"遅延",IF(TODAY()>=$F38,"進行中","未着手")))) | K38: =IF(AND($C38="マイルストーン",K$9=$F38),"◆","") | L38: =IF(AND($C38="マイルストーン",L$9=$F38),"◆","") | M38: =IF(AND($C38="マイルストーン",M$9=$F38),"◆","") | N38: =IF(AND($C38="マイルストーン",N$9=$F38),"◆","") | O38: =IF(AND($C38="マイルストーン",O$9=$F38),"◆","") | P38: =IF(AND($C38="マイルストーン",P$9=$F38),"◆","") | Q38: =IF(AND($C38="マイルストーン",Q$9=$F38),"◆","") | R38: =IF(AND($C38="マイルストーン",R$9=$F38),"◆","") | ... CP38: =IF(AND($C38="マイルストーン",CP$9=$F38),"◆","")
H39: =IF(OR(F39="",G39=""),0,NETWORKDAYS(F39,G39,祝日!$B$5:$B$60)) -> 0 | J39: =IF(OR($F39="",$G39=""),"",IF($I39>=1,"完了",IF(TODAY()>$G39,"遅延",IF(TODAY()>=$F39,"進行中","未着手")))) | K39: =IF(AND($C39="マイルストーン",K$9=$F39),"◆","") | L39: =IF(AND($C39="マイルストーン",L$9=$F39),"◆","") | M39: =IF(AND($C39="マイルストーン",M$9=$F39),"◆","") | N39: =IF(AND($C39="マイルストーン",N$9=$F39),"◆","") | O39: =IF(AND($C39="マイルストーン",O$9=$F39),"◆","") | P39: =IF(AND($C39="マイルストーン",P$9=$F39),"◆","") | Q39: =IF(AND($C39="マイルストーン",Q$9=$F39),"◆","") | R39: =IF(AND($C39="マイルストーン",R$9=$F39),"◆","") | ... CP39: =IF(AND($C39="マイルストーン",CP$9=$F39),"◆","")
H40: =IF(OR(F40="",G40=""),0,NETWORKDAYS(F40,G40,祝日!$B$5:$B$60)) -> 0 | J40: =IF(OR($F40="",$G40=""),"",IF($I40>=1,"完了",IF(TODAY()>$G40,"遅延",IF(TODAY()>=$F40,"進行中","未着手")))) | K40: =IF(AND($C40="マイルストーン",K$9=$F40),"◆","") | L40: =IF(AND($C40="マイルストーン",L$9=$F40),"◆","") | M40: =IF(AND($C40="マイルストーン",M$9=$F40),"◆","") | N40: =IF(AND($C40="マイルストーン",N$9=$F40),"◆","") | O40: =IF(AND($C40="マイルストーン",O$9=$F40),"◆","") | P40: =IF(AND($C40="マイルストーン",P$9=$F40),"◆","") | Q40: =IF(AND($C40="マイルストーン",Q$9=$F40),"◆","") | R40: =IF(AND($C40="マイルストーン",R$9=$F40),"◆","") | ... CP40: =IF(AND($C40="マイルストーン",CP$9=$F40),"◆","")
H41: =IF(OR(F41="",G41=""),0,NETWORKDAYS(F41,G41,祝日!$B$5:$B$60)) -> 0 | J41: =IF(OR($F41="",$G41=""),"",IF($I41>=1,"完了",IF(TODAY()>$G41,"遅延",IF(TODAY()>=$F41,"進行中","未着手")))) | K41: =IF(AND($C41="マイルストーン",K$9=$F41),"◆","") | L41: =IF(AND($C41="マイルストーン",L$9=$F41),"◆","") | M41: =IF(AND($C41="マイルストーン",M$9=$F41),"◆","") | N41: =IF(AND($C41="マイルストーン",N$9=$F41),"◆","") | O41: =IF(AND($C41="マイルストーン",O$9=$F41),"◆","") | P41: =IF(AND($C41="マイルストーン",P$9=$F41),"◆","") | Q41: =IF(AND($C41="マイルストーン",Q$9=$F41),"◆","") | R41: =IF(AND($C41="マイルストーン",R$9=$F41),"◆","") | ... CP41: =IF(AND($C41="マイルストーン",CP$9=$F41),"◆","")
H42: =IF(OR(F42="",G42=""),0,NETWORKDAYS(F42,G42,祝日!$B$5:$B$60)) -> 0 | J42: =IF(OR($F42="",$G42=""),"",IF($I42>=1,"完了",IF(TODAY()>$G42,"遅延",IF(TODAY()>=$F42,"進行中","未着手")))) | K42: =IF(AND($C42="マイルストーン",K$9=$F42),"◆","") | L42: =IF(AND($C42="マイルストーン",L$9=$F42),"◆","") | M42: =IF(AND($C42="マイルストーン",M$9=$F42),"◆","") | N42: =IF(AND($C42="マイルストーン",N$9=$F42),"◆","") | O42: =IF(AND($C42="マイルストーン",O$9=$F42),"◆","") | P42: =IF(AND($C42="マイルストーン",P$9=$F42),"◆","") | Q42: =IF(AND($C42="マイルストーン",Q$9=$F42),"◆","") | R42: =IF(AND($C42="マイルストーン",R$9=$F42),"◆","") | ... CP42: =IF(AND($C42="マイルストーン",CP$9=$F42),"◆","")
H43: =IF(OR(F43="",G43=""),0,NETWORKDAYS(F43,G43,祝日!$B$5:$B$60)) -> 0 | J43: =IF(OR($F43="",$G43=""),"",IF($I43>=1,"完了",IF(TODAY()>$G43,"遅延",IF(TODAY()>=$F43,"進行中","未着手")))) | K43: =IF(AND($C43="マイルストーン",K$9=$F43),"◆","") | L43: =IF(AND($C43="マイルストーン",L$9=$F43),"◆","") | M43: =IF(AND($C43="マイルストーン",M$9=$F43),"◆","") | N43: =IF(AND($C43="マイルストーン",N$9=$F43),"◆","") | O43: =IF(AND($C43="マイルストーン",O$9=$F43),"◆","") | P43: =IF(AND($C43="マイルストーン",P$9=$F43),"◆","") | Q43: =IF(AND($C43="マイルストーン",Q$9=$F43),"◆","") | R43: =IF(AND($C43="マイルストーン",R$9=$F43),"◆","") | ... CP43: =IF(AND($C43="マイルストーン",CP$9=$F43),"◆","")
H44: =IF(OR(F44="",G44=""),0,NETWORKDAYS(F44,G44,祝日!$B$5:$B$60)) -> 0 | J44: =IF(OR($F44="",$G44=""),"",IF($I44>=1,"完了",IF(TODAY()>$G44,"遅延",IF(TODAY()>=$F44,"進行中","未着手")))) | K44: =IF(AND($C44="マイルストーン",K$9=$F44),"◆","") | L44: =IF(AND($C44="マイルストーン",L$9=$F44),"◆","") | M44: =IF(AND($C44="マイルストーン",M$9=$F44),"◆","") | N44: =IF(AND($C44="マイルストーン",N$9=$F44),"◆","") | O44: =IF(AND($C44="マイルストーン",O$9=$F44),"◆","") | P44: =IF(AND($C44="マイルストーン",P$9=$F44),"◆","") | Q44: =IF(AND($C44="マイルストーン",Q$9=$F44),"◆","") | R44: =IF(AND($C44="マイルストーン",R$9=$F44),"◆","") | ... CP44: =IF(AND($C44="マイルストーン",CP$9=$F44),"◆","")
H45: =IF(OR(F45="",G45=""),0,NETWORKDAYS(F45,G45,祝日!$B$5:$B$60)) -> 0 | J45: =IF(OR($F45="",$G45=""),"",IF($I45>=1,"完了",IF(TODAY()>$G45,"遅延",IF(TODAY()>=$F45,"進行中","未着手")))) | K45: =IF(AND($C45="マイルストーン",K$9=$F45),"◆","") | L45: =IF(AND($C45="マイルストーン",L$9=$F45),"◆","") | M45: =IF(AND($C45="マイルストーン",M$9=$F45),"◆","") | N45: =IF(AND($C45="マイルストーン",N$9=$F45),"◆","") | O45: =IF(AND($C45="マイルストーン",O$9=$F45),"◆","") | P45: =IF(AND($C45="マイルストーン",P$9=$F45),"◆","") | Q45: =IF(AND($C45="マイルストーン",Q$9=$F45),"◆","") | R45: =IF(AND($C45="マイルストーン",R$9=$F45),"◆","") | ... CP45: =IF(AND($C45="マイルストーン",CP$9=$F45),"◆","")
... H48: =IF(OR(F48="",G48=""),0,NETWORKDAYS(F48,G48,祝日!$B$5:$B$60)) -> 0 | J48: =IF(OR($F48="",$G48=""),"",IF($I48>=1,"完了",IF(TODAY()>$G48,"遅延",IF(TODAY()>=$F48,"進行中","未着手")))) | K48: =IF(AND($C48="マイルストーン",K$9=$F48),"◆","") | L48: =IF(AND($C48="マイルストーン",L$9=$F48),"◆","") | M48: =IF(AND($C48="マイルストーン",M$9=$F48),"◆","") | N48: =IF(AND($C48="マイルストーン",N$9=$F48),"◆","") | O48: =IF(AND($C48="マイルストーン",O$9=$F48),"◆","") | P48: =IF(AND($C48="マイルストーン",P$9=$F48),"◆","") | Q48: =IF(AND($C48="マイルストーン",Q$9=$F48),"◆","") | R48: =IF(AND($C48="マイルストーン",R$9=$F48),"◆","") | ... CP48: =IF(AND($C48="マイルストーン",CP$9=$F48),"◆","")

Sheet 祝日
B2: 祝日・休業日
B3: 営業日の計算と色分けに使います。会社の休業日は下の空欄に追加してください。
B4: 日付 | C4: 名称
B5: 46023 | C5: 元日
B6: 46034 | C6: 成人の日
B7: 46064 | C7: 建国記念の日
B8: 46076 | C8: 天皇誕生日
B9: 46101 | C9: 春分の日
B10: 46141 | C10: 昭和の日
B11: 46145 | C11: 憲法記念日
B12: 46146 | C12: みどりの日
B13: 46147 | C13: こどもの日
B14: 46148 | C14: 振替休日
B15: 46223 | C15: 海の日
B16: 46245 | C16: 山の日
... B39: 46714 | C39: 勤労感謝の日
